BEGIN:VCALENDAR
VERSION:2.0
METHOD:PUBLISH
X-WR-CALNAME:Leutenbach _2026-04-25
PRODID:-//www.se-winnenden.de//iCal
X-WR-CALDESC:Probe Erstkommunion
X-WR-TIMEZONE:Europe/Berlin
CALSCALE:GREGORIAN
BEGIN:VEVENT
UID:SEWSL-Leutenbach -l15650458
DESCRIPTION:Probe Erstkommunion
SUMMARY:Probe Erstkommunion
DTSTART:20260425T153000
DTEND:20260425T173000
DTSTAMP:20260424T000000Z
LOCATION:Gesamtes Zentrum, Leutenbach
TRANSP:TRANSPARENT
BEGIN:VALARM
TRIGGER:-PT0H30M
ACTION:DISPLAY
SUMMARY:Probe Erstkommunion
END:VALARM
END:VEVENT
END:VCALENDAR